Workbook
Name list1: #REF!
Name list2: #REF!

Sheet Form
B2: Background
B3: This maturity matrix has been designed for use by ambulance services to support implementation of the recommendations within the national consensus statement on the role of the ambulance sector in reducing health inequalities. During the process of developing this consensus, a series of enablers were identified that will support the embedding of approaches to reducing health inequalities into the culture of ambulance service working practices. These are outlined below. Building public health capacity and capability · Ambulance services have access to public health expertise and resources and develop these within their workforce · There are opportunities for all staff & volunteers to access health inequalities training, education & support · Staff and volunteers are empowered at every level to proactively reduce health inequalities through innovative working practices Data, insight, evidence and evaluation · Ambulance services and systems use ambulance data to better understand population health and health inequalities · Ambulance services work to improve the evidence-base that supports and informs the role of the ambulance sector in reducing health inequalities · Ambulance services work in collaboration with their local systems to better understand the needs of their communities through improved engagement, insight and patient experience Strategic leadership and accountability · Ambulance service Boards and senior-level leadership engage in organisational development in relation to their role in reducing health inequalities · Reducing health inequalities features as a priority within service-level strategy and business planning · Structures are in place to ensure that the organisation is held to account for its role in reducing health inequalities System partnerships · Population health insights from data and evidence are used to influence service delivery and commissioning of ambulance services · Ambulance services identify key areas of focus and pathways of care through which they could have most impact on health inequalities by working in collaboration with local systems · Ambulance services act as anchor organisations, working in collaboration to support broader social and economic development The aim of this tool is to guide ambulance services towards actions that can make a difference to people who experience health inequalities. It is designed to focus on each of the key enabling themes, set in the context of local systems and aligned to both policy drivers and the national consensus.
B5: Instructions
B6: The following questions have been designed to gather information on current developments in your organisation against each of the enabling themes. Each question provides a drop down list of options. Please select the option that you feel best describes your service. Examples to evidence progress can also be included. When you have completed the tool two reports will be generated. The first will provide a summary of your responses with space included for you to identify key areas for action within each of the enabling themes. The second report acts as an appendix and collates all the examples you have provided against each enabling theme. These reports can then be saved as PDFs for you to use as a basis for discussion within your organisations. Please note, all questions must be completed in order for the reports to be correctly generated. To assist us in evaluating the impact of the national consensus work, when you have completed the tool please save it and share a copy with Ruth Crabtree, National Lead for Public Health (AACE) at ruth.crabtree@nhs.net.
B8: Service Information
B9: Ambulance service name
B11: Name of person completing tool
B13: Job title
B15: Email address
B17: Date of completion
B19: Please provide an outline of how the tool was completed in your service, e.g. by the named individual solely, a group was convened, assessment was led by Board
B23: 1. Building public health capacity & capability
B24: 1.1 Do staff & volunteers receive regular training to raise awareness of the impact of health inequalities on patients, public & staff and the opportunities to reduce these?
D25: =HLOOKUP(B25,'Qs & As'!C2:E$31,30,FALSE) -> #N/A
B26: Examples of work
B28: 1.2 Do staff & volunteers receive regular training and support around how to deliver brief interventions e.g. Making Every Contact Count (MECC)?
D29: =HLOOKUP(B29,'Qs & As'!C3:E$31,29,FALSE) -> #N/A
B30: Examples of work
B32: 1.3 Do you employ/host any public health specialist staff?
D33: =HLOOKUP(B33,'Qs & As'!C4:E$31,28,FALSE) -> #N/A
B34: Examples of work
B36: 1.4 Do you have opportunities and systems in place to encourage and enable staff & volunteers to develop public health expertise across the spectrum of roles?
D37: =HLOOKUP(B37,'Qs & As'!C5:E$31,27,FALSE) -> #N/A
B38: Examples of work
B42: 2. Data, insight, evidence and evaluation
B43: 2.1 Is data on patient ethnicity accurate and comprehensive across all service lines?
D44: =HLOOKUP(B44,'Qs & As'!C7:E$31,25,FALSE) -> #N/A
B45: Examples of work
B47: 2.2 Does your Board routinely receive patient and performance data broken down by ethnicity and deprivation?
D48: =HLOOKUP(B48,'Qs & As'!C8:E$31,24,FALSE) -> #N/A
B49: Examples of work
B51: 2.3 Is patient level data about protected characteristics complete across all service lines?
D52: =HLOOKUP(B52,'Qs & As'!C9:E$31,23,FALSE) -> #N/A
B53: Examples of work
B55: 2.4 Do you use existing population health data, e.g. population demographics, index of multiple deprivation, GP locations, in your analysis of ambulance data e.g. ACQIs, response data etc?
D56: =HLOOKUP(B56,'Qs & As'!C10:E$31,22,FALSE) -> #N/A
B57: Examples of work
B59: 2.5 Do you employ analysts trained in public health or have partnership arrangements in place to secure this expertise?
D60: =HLOOKUP(B60,'Qs & As'!C11:E$31,21,FALSE) -> #N/A
B61: Examples of work
...

Sheet Summary Report
B1: Reducing Health Inequalities Maturity Report
B2: =""&Form!B10
B3: =Form!B18 -> 0
B4: Overview
B5: ="Organisational Maturity Level: "&'Maturity matrix'!$G$26 -> Organisational Maturity Level: –
B7: Breakdown
B8: =Form!B23 -> 1. Building public health capacity & capability
B9: ="Maturity Level: "&'Maturity matrix'!$G$2 -> Maturity Level: –
B10: ='Qs & As'!A2&" "&IF(Form!B25=0,"–",Form!B25) -> 1.1 –
B11: ='Qs & As'!A3&" "&IF(Form!B29=0,"–",Form!B29) -> 1.2 –
B12: ='Qs & As'!A4&" "&IF(Form!B33=0,"–",Form!B33) -> 1.3 –
B13: ='Qs & As'!A5&" "&IF(Form!B37=0,"–",Form!B37) -> 1.4 –
B14: Key areas identified for action / rationale for no action
B18: =Form!B42 -> 2. Data, insight, evidence and evaluation
B19: ="Maturity Level: "&'Maturity matrix'!$G$8 -> Maturity Level: –
B20: ='Qs & As'!A7&" "&IF(Form!B44=0,"–",Form!B44) -> 2.1 –
B21: ='Qs & As'!A8&" "&IF(Form!B48=0,"–",Form!B48) -> 2.2 –
B22: ='Qs & As'!A9&" "&IF(Form!B52=0,"–",Form!B52) -> 2.3 –
B23: ='Qs & As'!A10&" "&IF(Form!B56=0,"–",Form!B56) -> 2.4 –
B24: ='Qs & As'!A11&" "&IF(Form!B60=0,"–",Form!B60) -> 2.5 –
B25: ='Qs & As'!A12&" "&IF(Form!B64=0,"–",Form!B64) -> 2.6 –
B26: ='Qs & As'!A13&" "&IF(Form!B68=0,"–",Form!B68) -> 2.7 –
B27: ='Qs & As'!A14&" "&IF(Form!B72=0,"–",Form!B72) -> 2.8 –
B28: ='Qs & As'!A15&" "&IF(Form!B76=0,"–",Form!B76) -> 2.9 –
B29: ='Qs & As'!A16&" "&IF(Form!B80=0,"–",Form!B80) -> 2.10 –
B30: ='Qs & As'!A17&" "&IF(Form!B84=0,"–",Form!B84) -> 2.11 –
B31: Key areas identified for action / rationale for no action
B35: =Form!B89 -> 3. Strategic leadership & accountability
B36: ="Maturity Level: "&'Maturity matrix'!$G$14 -> Maturity Level: –
B37: ='Qs & As'!A19&" "&IF(Form!B91=0,"–",Form!B91) -> 3.1 –
B38: ='Qs & As'!A20&" "&IF(Form!B95=0,"–",Form!B95) -> 3.2 –
B39: ='Qs & As'!A21&" "&IF(Form!B99=0,"–",Form!B99) -> 3.3 –
B40: ='Qs & As'!A22&" "&IF(Form!B103=0,"–",Form!B103) -> 3.4 –
B41: ='Qs & As'!A23&" "&IF(Form!B107=0,"–",Form!B107) -> 3.5 –
B42: ='Qs & As'!A24&" "&IF(Form!B111=0,"–",Form!B111) -> 3.6 –
B43: Key areas identified for action / rationale for no action
B47: =Form!B116 -> 4. System partnerships
B48: ="Maturity Level: "&'Maturity matrix'!$G$20 -> Maturity Level: –
B49: ='Qs & As'!A26&" "&IF(Form!B118=0,"–",Form!B118) -> 4.1 –
B50: ='Qs & As'!A27&" "&IF(Form!B122=0,"–",Form!B122) -> 4.2 –
...

Sheet Maturity matrix
A1: Section | B1: Score | C1: As % | D1: Rating | E1: Actual | F1: As % | G1: Actual Rating | I1: Rating | J1: x | K1: Threshold | L1: As #
A2: Building public health capacity & capability | B2: =K2*B$6 -> 0 | C2: =B2/B$6 -> 0 | D2: Not started | E2: =SUM(Form!D25,Form!D29,Form!D33,Form!D37) -> #N/A | F2: =E2/B6 -> #N/A | G2: =IF(ISERROR(E2),"–",VLOOKUP(E2,B2:D6,3,TRUE)) -> – | I2: Not started | J2: 0 | K2: 0 | L2: =K2 -> 0
B3: =K3*B$6 -> 0.8 | C3: =B3/B$6 -> 0.1 | D3: Emerging (preparatory or ad hoc work) | I3: Emerging | J3: 0 | K3: 0.1 | L3: =K3 -> 0.1
B4: =K4*B$6 -> 3.6 | C4: =B4/B$6 -> 0.45 | D4: Developing (building up good practice) | I4: Developing | J4: 0 | K4: 0.45 | L4: =K4 -> 0.45
B5: =K5*B$6 -> 6 | C5: =B5/B$6 -> 0.75 | D5: Maturing (beginning to be embedded) | I5: Maturing | J5: 0 | K5: 0.75 | L5: =K5 -> 0.75
B6: 8 | C6: =B6/B$6 -> 1 | D6: Thriving | I6: Thriving | J6: 0 | K6: 1 | L6: =K6 -> 1
A8: Data, insight, evidence and evaluation | B8: =K2*B$12 -> 0 | C8: =B8/B$12 -> 0 | D8: Not started | E8: =SUM(Form!D44,Form!D48,Form!D52,Form!D56,Form!D60,Form!D64,Form!D68,Form!D72,Form!D76,Form!D80,Form!D84) -> #N/A | F8: =E8/B12 -> #N/A | G8: =IF(ISERROR(E8),"–",VLOOKUP(E8,B8:D12,3,TRUE)) -> – | J8: Rating | K8: Count
B9: =K3*B$12 -> 2.2 | C9: =B9/B$12 -> 0.1 | D9: Emerging (preparatory or ad hoc work) | J9: Not started | K9: =COUNTIF(G$2:G$20,J9) -> 0
B10: =K4*B$12 -> 9.9 | C10: =B10/B$12 -> 0.45 | D10: Developing (building up good practice) | J10: Emerging (preparatory or ad hoc work) | K10: =COUNTIF(G$2:G$20,J10) -> 0
B11: =K5*B$12 -> 16.5 | C11: =B11/B$12 -> 0.75 | D11: Maturing (beginning to be embedded) | J11: Developing (building up good practice) | K11: =COUNTIF(G$2:G$20,J11) -> 0
B12: 22 | C12: =B12/B$12 -> 1 | D12: Thriving | J12: Maturing (beginning to be embedded) | K12: =COUNTIF(G$2:G$20,J12) -> 0
A14: Strategic leadership & accountability | B14: =K2*B$18 -> 0 | C14: =B14/B$18 -> 0 | D14: Not started | E14: =SUM(Form!D91,Form!D95,Form!D99,Form!D103,Form!D107,Form!D111) -> #N/A | F14: =E14/B18 -> #N/A | G14: =IF(ISERROR(E14),"–",VLOOKUP(E14,B14:D18,3,TRUE)) -> – | J14: Theme | K14: Maturity Level
B15: =K3*B$18 -> 1.2 | C15: =B15/B$18 -> 0.1 | D15: Emerging (preparatory or ad hoc work) | J15: =A2 -> Building public health capacity & capability | K15: =F2 -> #N/A
B16: =K4*B$18 -> 5.4 | C16: =B16/B$18 -> 0.45 | D16: Developing (building up good practice) | J16: =A8 -> Data, insight, evidence and evaluation | K16: =F8 -> #N/A
B17: =K5*B$18 -> 9 | C17: =B17/B$18 -> 0.75 | D17: Maturing (beginning to be embedded) | J17: =A14 -> Strategic leadership & accountability | K17: =F14 -> #N/A
B18: 12 | C18: =B18/B$18 -> 1 | D18: Thriving | J18: =A20 -> System partnerships | K18: =F20 -> #N/A
J19: =A26 -> Overall | K19: =F26 -> #N/A
A20: System partnerships | B20: =K2*B$24 -> 0 | C20: =B20/B$24 -> 0 | D20: Not started | E20: =SUM(Form!D118,Form!D122,Form!D126,Form!D130) -> #N/A | F20: =E20/B24 -> #N/A | G20: =IF(ISERROR(E20),"–",VLOOKUP(E20,B20:D24,3,TRUE)) -> –
B21: =K3*B$24 -> 0.8 | C21: =B21/B$24 -> 0.1 | D21: Emerging (preparatory or ad hoc work)
B22: =K4*B$24 -> 3.6 | C22: =B22/B$24 -> 0.45 | D22: Developing (building up good practice)
B23: =K5*B$24 -> 6 | C23: =B23/B$24 -> 0.75 | D23: Maturing (beginning to be embedded)
B24: 8 | C24: =B24/B$24 -> 1 | D24: Thriving
A26: Overall | B26: =K2*B$30 -> 0 | C26: =B26/B$30 -> 0 | D26: Not started | F26: =AVERAGE(F2,F8,F14,F20) -> #N/A | G26: =IF(ISERROR(F26),"–",VLOOKUP(F26,C26:D30,2,TRUE)) -> –
B27: =K3*B$30 -> 5 | C27: =B27/B$30 -> 0.1 | D27: Emerging (preparatory or ad hoc work)
B28: =K4*B$30 -> 22.5 | C28: =B28/B$30 -> 0.45 | D28: Developing (building up good practice)
B29: =K5*B$30 -> 37.5 | C29: =B29/B$30 -> 0.75 | D29: Maturing (beginning to be embedded)
B30: 50 | C30: =B30/B$30 -> 1 | D30: Thriving

Sheet Appendix
B1: Appendix - Examples of Work
B2: =Form!B23 -> 1. Building public health capacity & capability
B3: ="Maturity Level: "&'Maturity matrix'!$G$2 -> Maturity Level: –
B4: ='Qs & As'!A2&" "&IF(Form!B25=0,"–",Form!B25)&IF(ISBLANK(Form!B27),"",":"&CHAR(10)&""&CHAR(10)&Form!B27&CHAR(10)) -> 1.1 –
B5: ='Qs & As'!A3&" "&IF(Form!B29=0,"–",Form!B29)&IF(ISBLANK(Form!B31),"",":"&CHAR(10)&""&CHAR(10)&Form!B31&CHAR(10)) -> 1.2 –
B6: ='Qs & As'!A4&" "&IF(Form!B33=0,"–",Form!B33)&IF(ISBLANK(Form!B35),"",":"&CHAR(10)&""&CHAR(10)&Form!B35&CHAR(10)) -> 1.3 –
B7: ='Qs & As'!A5&" "&IF(Form!B37=0,"–",Form!B37)&IF(ISBLANK(Form!B39),"",":"&CHAR(10)&""&CHAR(10)&Form!B39&CHAR(10)) -> 1.4 –
B10: =Form!B42 -> 2. Data, insight, evidence and evaluation
B11: ="Maturity Level: "&'Maturity matrix'!$G$8 -> Maturity Level: –
B12: ='Qs & As'!A7&" "&IF(Form!B44=0,"–",Form!B44)&IF(ISBLANK(Form!B46),"",":"&CHAR(10)&""&CHAR(10)&Form!B46&CHAR(10)) -> 2.1 –
B13: ='Qs & As'!A8&" "&IF(Form!B48=0,"–",Form!B48)&IF(ISBLANK(Form!B50),"",":"&CHAR(10)&""&CHAR(10)&Form!B50&CHAR(10)) -> 2.2 –
B14: ='Qs & As'!A9&" "&IF(Form!B52=0,"–",Form!B52)&IF(ISBLANK(Form!B54),"",":"&CHAR(10)&""&CHAR(10)&Form!B54&CHAR(10)) -> 2.3 –
B15: ='Qs & As'!A10&" "&IF(Form!B56=0,"–",Form!B56)&IF(ISBLANK(Form!B58),"",":"&CHAR(10)&""&CHAR(10)&Form!B58&CHAR(10)) -> 2.4 –
B16: ='Qs & As'!A11&" "&IF(Form!B60=0,"–",Form!B60)&IF(ISBLANK(Form!B62),"",":"&CHAR(10)&""&CHAR(10)&Form!B62&CHAR(10)) -> 2.5 –
B17: ='Qs & As'!A12&" "&IF(Form!B64=0,"–",Form!B64)&IF(ISBLANK(Form!B66),"",":"&CHAR(10)&""&CHAR(10)&Form!B66&CHAR(10)) -> 2.6 –
B18: ='Qs & As'!A13&" "&IF(Form!B68=0,"–",Form!B68)&IF(ISBLANK(Form!B70),"",":"&CHAR(10)&""&CHAR(10)&Form!B70&CHAR(10)) -> 2.7 –
B19: ='Qs & As'!A14&" "&IF(Form!B72=0,"–",Form!B72)&IF(ISBLANK(Form!B74),"",":"&CHAR(10)&""&CHAR(10)&Form!B74&CHAR(10)) -> 2.8 –
B20: ='Qs & As'!A15&" "&IF(Form!B76=0,"–",Form!B76)&IF(ISBLANK(Form!B78),"",":"&CHAR(10)&""&CHAR(10)&Form!B78&CHAR(10)) -> 2.9 –
B21: ='Qs & As'!A16&" "&IF(Form!B80=0,"–",Form!B80)&IF(ISBLANK(Form!B82),"",":"&CHAR(10)&""&CHAR(10)&Form!B82&CHAR(10)) -> 2.10 –
B22: ='Qs & As'!A17&" "&IF(Form!B84=0,"–",Form!B84)&IF(ISBLANK(Form!B86),"",":"&CHAR(10)&""&CHAR(10)&Form!B86&CHAR(10)) -> 2.11 –
B25: =Form!B89 -> 3. Strategic leadership & accountability
B26: ="Maturity Level: "&'Maturity matrix'!$G$14 -> Maturity Level: –
B27: ='Qs & As'!A19&" "&IF(Form!B91=0,"–",Form!B91)&IF(ISBLANK(Form!B93),"",":"&CHAR(10)&""&CHAR(10)&Form!B93&CHAR(10)) -> 3.1 –
B28: ='Qs & As'!A20&" "&IF(Form!B95=0,"–",Form!B95)&IF(ISBLANK(Form!B97),"",":"&CHAR(10)&""&CHAR(10)&Form!B97&CHAR(10)) -> 3.2 –
B29: ='Qs & As'!A21&" "&IF(Form!B99=0,"–",Form!B99)&IF(ISBLANK(Form!B101),"",":"&CHAR(10)&""&CHAR(10)&Form!B101&CHAR(10)) -> 3.3 –
B30: ='Qs & As'!A22&" "&IF(Form!B103=0,"–",Form!B103)&IF(ISBLANK(Form!B105),"",":"&CHAR(10)&""&CHAR(10)&Form!B105&CHAR(10)) -> 3.4 –
B31: ='Qs & As'!A23&" "&IF(Form!B107=0,"–",Form!B107)&IF(ISBLANK(Form!B109),"",":"&CHAR(10)&""&CHAR(10)&Form!B109&CHAR(10)) -> 3.5 –
B32: ='Qs & As'!A24&" "&IF(Form!B111=0,"–",Form!B111)&IF(ISBLANK(Form!B113),"",":"&CHAR(10)&""&CHAR(10)&Form!B113&CHAR(10)) -> 3.6 –
B35: =Form!B116 -> 4. System partnerships
B36: ="Maturity Level: "&'Maturity matrix'!$G$20 -> Maturity Level: –
B37: ='Qs & As'!A26&" "&IF(Form!B118=0,"–",Form!B118)&IF(ISBLANK(Form!B120),"",":"&CHAR(10)&""&CHAR(10)&Form!B120&CHAR(10)) -> 4.1 –
B38: ='Qs & As'!A27&" "&IF(Form!B122=0,"–",Form!B122)&IF(ISBLANK(Form!B124),"",":"&CHAR(10)&""&CHAR(10)&Form!B124&CHAR(10)) -> 4.2 –
B39: ='Qs & As'!A28&" "&IF(Form!B126=0,"–",Form!B126)&IF(ISBLANK(Form!B128),"",":"&CHAR(10)&""&CHAR(10)&Form!B128&CHAR(10)) -> 4.3 –
B40: ='Qs & As'!A29&" "&IF(Form!B130=0,"–",Form!B130)&IF(ISBLANK(Form!B132),"",":"&CHAR(10)&""&CHAR(10)&Form!B132&CHAR(10)) -> 4.4 –

Sheet Chars
A1: =CHAR(B1) -> _x0001_ | B1: 1
A2: =CHAR(B2) -> _x0002_ | B2: 2
A3: =CHAR(B3) -> _x0003_ | B3: 3
A4: =CHAR(B4) -> _x0004_ | B4: 4
A5: =CHAR(B5) -> _x0005_ | B5: 5
A6: =CHAR(B6) -> _x0006_ | B6: 6
A7: =CHAR(B7) -> _x0007_ | B7: 7
A8: =CHAR(B8) -> _x0008_ | B8: 8
A9: =CHAR(B9) | B9: 9
A10: =CHAR(B10) | B10: 10
A11: =CHAR(B11) -> _x000B_ | B11: 11
A12: =CHAR(B12) -> _x000C_ | B12: 12
... A255: =CHAR(B255) -> ÿ | B255: 255

Sheet Qs & As
B1: Question | C1: 0 | D1: 1 | E1: 2
A2: 1.1 | B2: Do staff & volunteers receive regular training to raise awareness of the impact of health inequalities on patients, public & staff and the opportunities to reduce these? | C2: No training on health inequalities or their impact is delivered | D2: Some training on health inequalities is provided but this is limited, only delivered to some areas/individuals within the organisation or delivered on an ad hoc basis | E2: All new & existing staff and volunteers across the organisation receive regular training on health inequalities and their impacts
A3: 1.2 | B3: Do staff & volunteers receive regular training and support around how to deliver brief interventions? | C3: No training on brief interventions is provided | D3: Some training on delivery of brief interventions is provided but this is limited, only delivered to some areas of the organisation or delivered on an ad hoc basis | E3: All staff and volunteers across the organisation receive regular training on brief interventions and support is provided to implement
A4: 1.3 | B4: Do you employ/host any public health specialist staff? | C4: No public health specialist staff are employed by the organisation | D4: Public health specialist staff are employed or on placement but only on a fixed term, project specific basis or are not yet driving strategic direction | E4: Public health specialist staff with a remit for driving strategic direction are embedded within the organisation. They are making links to or working within key programmes & forums across the system
A5: 1.4 | B5: Do you have opportunities and systems in place to encourage and enable staff & volunteers to develop public health expertise across the spectrum of roles? | C5: No public health development opportunities are made available to staff/volunteers | D5: Some public health development opportunities are promoted to staff and volunteers and/or there is ad hoc development of those who express interest | E5: We have undertaken a comprehensive mapping of available public health development opportunities and developed formal routes to access. These are actively promoted to staff and volunteers at all levels across the organisation
A7: 2.1 | B7: Is data on patient ethnicity accurate and comprehensive across all service lines? | C7: Across the service none or few patient records have ethnicity recorded | D7: Around half of patient records have accurate and comprehensive ethnicity recorded in at least one service line | E7: Most patient records have accurate and comprehensive ethnicity recorded across all service lines
A8: 2.2 | B8: Does your Board routinely receive patient and performance data broken down by ethnicity and deprivation? | C8: The board does not receive any data relating to patient ethnicity or deprivation | D8: The board receives some patient and performance data broken down by ethnicity and deprivation on an ad hoc basis and no or little specific action is taken | E8: Patient and performance data broken down by ethnicity and deprivation is regularly reviewed by the board in relation to service delivery & design with areas for improvement , actions and timescales identified and discussed
A9: 2.3 | B9: Is patient level data about protected characteristics complete across all service lines? | C9: Less than half of relevant protected characteristics data are complete within patient records across any service line | D9: At least half of relevant protected characteristics data are complete within patient records in at least one service line | E9: Relevant protected characteristics data are complete within patient records across all service lines wherever possible
A10: 2.4 | B10: Do you use existing population health data, e.g. population demographics, index of multiple deprivation, GP locations, in your analysis of ambulance data e.g. ACQIs, response data etc? | C10: Population health data are not used within our data analysis | D10: Limited/ad hoc data analysis is conducted using population health data | E10: Population health data routinely used to create a recognised 'picture of place' to better understand the needs of vulnerable population groups
A11: 2.5 | B11: Do you employ analysts trained in public health or have partnership arrangements in place to secure this expertise? | C11: We do not have access to any public health analysis expertise | D11: Ad hoc data analysis is conducted by analysts trained in public health methodologies but with limited impact on service design and delivery | E11: We have direct access to analysts trained in public health methodologies and this is routinely drawn upon to influence service design and delivery
A12: 2.6 | B12: Has your service undertaken or taken part in any research related to health inequalities and ambulance service / healthcare provision? | C12: We do not undertake research relating to health inequalities | D12: We undertake health inequalities research but do not regularly make changes based on the results | E12: We regularly undertake health inequalities research, implement changes based on the results and share the findings widely
A13: 2.7 | B13: Have you delivered any change programmes, e.g. Quality Improvement, as a result of an increased understanding of health inequalities? | C13: We have not delivered any change programmes in relation to health inequalities | D13: There have been ad hoc change programmes made using an understanding of health inequalities | E13: Health inequalities are considered when designing any change programme undertaken by the service with clear criteria for change at the population level used to select options
A14: 2.8 | B14: Do you have data sharing agreements in place with local systems to inform understanding of healthcare inequalities facing the regional populations? | C14: No data sharing agreements are in place to use ambulance data for population health purposes or to support in reducing health inequalities | D14: Data sharing between partners to use ambulance data for population health purposes or to support in reducing health inequalities is negotiated on a case by case basis | E14: Routine data sharing policies/protocols to use ambulance data for population health purposes or to support in reducing health inequalities are agreed amongst key partners and actions taken as a result
A15: 2.9 | B15: Is your public engagement focussed on insight relating to health inequalities? | C15: Current public engagement mechanisms are largely used for information sharing rather than informing programmes of work and/or the patient and public groups involved do not represent important vulnerable groups/seldom heard voices | D15: Some public engagement is focussed on insight relating to health inequalities but this is on an ad hoc basis/not informed by service-level data relating to inequalities | E15: We have well established mechanisms for informing public engagement work on health inequalities ensuring seldom heard voices are represented
A16: 2.10 | B16: Has your service reviewed its service provision using relevant data to consider the extent to which it enables equitable access, experience, and outcomes? | C16: Equity of patient access, experience and outcomes are not reviewed across any service lines | D16: Equity of patient access, experience and outcomes are reviewed across at least one service line either routinely or on an ad hoc basis | E16: Equity of patient access, experience and outcomes are reviewed regularly with results embedded throughout decision making on service design and delivery across all service lines and impact evaluation built in
A17: 2.11 | B17: Has your service reviewed its organisational policies, procedures & processes using relevant data on workforce, recruitment and procurement to consider the extent to which these may impact on the social or wider determinants of health? | C17: The service does not proactively consider its impact on the social or wider determinants of health | D17: Ad hoc programmes of work around the social or wider determinants of health are undertaken and/or the programmes are not data or evidence-based | E17: Organisational data in relation to the social determinants of health is routinely used to consider how the service may be able to improve its policies, procedures & processes including impact evaluation
A19: 3.1 | B19: Does your organisational strategy include a commitment to reducing health inequalities? | C19: Health inequalities is not explicitly mentioned or recognised in our organisational strategy | D19: Health inequalities is described as a principle in our organisational strategy. Ambitions are incorporated into the overarching vision but no realistic targets set & missing or weak coordinated practical action | E19: Clearly defined organisational-level priorities for reducing health inequalities integrated into organisational strategy & aligned to system plans
A20: 3.2 | B20: Has your Board received any training or development around health inequalities? | C20: No training and/or Board development sessions on health inequalities or their impact is delivered | D20: Some training and/or Board development sessions on health inequalities is provided but this is limited and only delivered on an ad hoc basis | E20: The Board receives regular training and/or Board development sessions on health inequalities and their impacts
A21: 3.3 | B21: Do you have a supporting delivery plan for reducing health inequalities? | C21: No business/delivery plan for reducing health inequalities is in place | D21: Business/delivery plan for reducing health inequalities in place and/or measurable indicators agreed but not integrated across the service | E21: Business/delivery plan for reducing health inequalities is integrated within work programmes across the service with measurable indicators of progress
A22: 3.4 | B22: Do you have an executive lead identified for health inequalities? | C22: No executive lead for reducing health inequalities identified | D22: Executive lead for reducing health inequalities nominated but organisation not held to account around its role in reducing health inequalities | E22: Executive lead for reducing health inequalities identified and actively monitoring organisational progress towards embedding an approach to reducing health inequalities
A23: 3.5 | B23: Are there governance structures in place to ensure organisational accountability for reducing health inequalities? | C23: No governance structures in place to ensure organisational accountability for reducing health inequalities | D23: Loose structures to ensure organisational accountability for reducing health inequalities are in place but these have limited effectiveness in bringing the organisation together around a specific issue relating to health inequalities | E23: Coherant, formal structures to ensure organisational accountability for reducing health inequalities are in place that enable a whole organisational approach to be taken against clearly defined organisational priorities
A24: 3.6 | B24: Are health inequalities impact assessments routinely used in your business case process? | C24: Health inequalities impact assessments are not used as part of business/service planning & design | D24: A health inequalities impact assessment template is available but is not regularly used/does not lead to changes in the planning process | E24: Health inequalities impact assessments are well embedded within business/service planning & design and are routinely used to understand and reduce the impact of planned changes on health inequalities
A26: 4.1 | B26: Is your service represented on appropriate system-level groups to contribute to population health decision making in your region? | C26: No service representation on relevant system-level groups relating to health inequalities | D26: Conducted mapping of existing relevant system-level groups in relation to health inequalities and/or engaging with groups on an ad hoc basis | E26: Representation on all appropriate system-level groups in relation to health inequalities at both the strategic & working group level where relevant
A27: 4.2 | B27: Is your service working with system partners to embed the values of anchor organisations and support an upstream approach to reducing health inequalities? | C27: The service does not currently align itself to the principles of being an anchor institution | D27: The service is part of a local anchor institutions network and/or undertaking a self-assessment on anchor institution key activities and principles | E27: The service is actively contributing to or leading the anchor institution agenda locally and/or can demonstrate measurable progress against key activities
A28: 4.3 | B28: Is there accountability above and outside the service in relation to health inequalities? | C28: Our commissioner has not proactively engaged in relation to the role of the ambulance service in reducing health inequalities | D28: Our commissioner is aware of the ambulance role in reducing health inequalities, but we have no clear objectives agreed with them or funding in this respect | E28: We have begun conversations with our commissioner and identified specific actions that could be taken in partnership to support and develop the organisation's role in reducing health inequalities
A29: 4.4 | B29: Have you engaged in any system pathway redesign work with system partners and communities to reduce health inequalities? | C29: The service has not yet been included in system conversations around pathway redesign from a health inequalities perspective | D29: The service is included in system-level conversations around pathway redesign from a health inequalities perspective but only on an ad hoc/infrequent basis | E29: Ambulance service data and insight on health inequalities is used routinely & systematically to inform system pathway redesign work
C31: 0 | D31: 1 | E31: 2
